BEGIN:VCALENDAR
VERSION:2.0
PRODID:-//Gunsite Academy - ECPv6.15.20//NONSGML v1.0//EN
CALSCALE:GREGORIAN
METHOD:PUBLISH
X-ORIGINAL-URL:https://www.gunsite.com
X-WR-CALDESC:Events for Gunsite Academy
REFRESH-INTERVAL;VALUE=DURATION:PT1H
X-Robots-Tag:noindex
X-PUBLISHED-TTL:PT1H
BEGIN:VTIMEZONE
TZID:America/Phoenix
BEGIN:STANDARD
TZOFFSETFROM:-0700
TZOFFSETTO:-0700
TZNAME:MST
DTSTART:20240101T000000
END:STANDARD
END:VTIMEZONE
BEGIN:VEVENT
DTSTART;TZID=America/Phoenix:20250831T080000
DTEND;TZID=America/Phoenix:20250831T170000
DTSTAMP:20260420T015244
CREATED:20240916T173257Z
LAST-MODIFIED:20240916T173324Z
UID:10003229-1756627200-1756659600@www.gunsite.com
SUMMARY:Day Zero - Pistol
DESCRIPTION:
URL:https://www.gunsite.com/event/day-zero-pistol-6/
LOCATION:Gunsite Academy\, Paulden\, Arizona\, 2900 W Gunsite Road\, Paulden\, AZ\, 86334\, United States
CATEGORIES:Gunsite Academy,Pistol
ORGANIZER;CN="Student Coordinator -Rikki Newell":MAILTO:rikki@gunsite.com
GEO:34.8659432;-112.513961
X-APPLE-STRUCTURED-LOCATION;VALUE=URI;X-ADDRESS=Gunsite Academy Paulden Arizona 2900 W Gunsite Road Paulden AZ 86334 United States;X-APPLE-RADIUS=500;X-TITLE=2900 W Gunsite Road:geo:-112.513961,34.8659432
END:VEVENT
BEGIN:VEVENT
DTSTART;TZID=America/Phoenix:20250901T080000
DTEND;TZID=America/Phoenix:20250905T000000
DTSTAMP:20260420T015244
CREATED:20240610T152947Z
LAST-MODIFIED:20240910T152938Z
UID:10003141-1756713600-1757030400@www.gunsite.com
SUMMARY:Tactical Concealed Carry Pistol
DESCRIPTION:concealed-carry-pistol
URL:https://www.gunsite.com/event/tactical-concealed-carry-pistol-18/
LOCATION:Gunsite Academy\, Paulden\, Arizona\, 2900 W Gunsite Road\, Paulden\, AZ\, 86334\, United States
CATEGORIES:Pistol
ORGANIZER;CN="Student Coordinator -Rikki Newell":MAILTO:rikki@gunsite.com
GEO:34.8659432;-112.513961
X-APPLE-STRUCTURED-LOCATION;VALUE=URI;X-ADDRESS=Gunsite Academy Paulden Arizona 2900 W Gunsite Road Paulden AZ 86334 United States;X-APPLE-RADIUS=500;X-TITLE=2900 W Gunsite Road:geo:-112.513961,34.8659432
END:VEVENT
BEGIN:VEVENT
DTSTART;TZID=America/Phoenix:20250901T080000
DTEND;TZID=America/Phoenix:20250905T170000
DTSTAMP:20260420T015244
CREATED:20240913T171335Z
LAST-MODIFIED:20250505T192135Z
UID:10003215-1756713600-1757091600@www.gunsite.com
SUMMARY:250 Defensive Pistol
DESCRIPTION:
URL:https://www.gunsite.com/event/250-defensive-pistol/
LOCATION:Gunsite Academy\, Paulden\, Arizona\, 2900 W Gunsite Road\, Paulden\, AZ\, 86334\, United States
CATEGORIES:Gunsite Academy,Pistol
ORGANIZER;CN="Student Coordinator -Rikki Newell":MAILTO:rikki@gunsite.com
GEO:34.8659432;-112.513961
X-APPLE-STRUCTURED-LOCATION;VALUE=URI;X-ADDRESS=Gunsite Academy Paulden Arizona 2900 W Gunsite Road Paulden AZ 86334 United States;X-APPLE-RADIUS=500;X-TITLE=2900 W Gunsite Road:geo:-112.513961,34.8659432
END:VEVENT
BEGIN:VEVENT
DTSTART;TZID=America/Phoenix:20250906T080000
DTEND;TZID=America/Phoenix:20250906T170000
DTSTAMP:20260420T015244
CREATED:20240609T215953Z
LAST-MODIFIED:20240916T174017Z
UID:10003043-1757145600-1757178000@www.gunsite.com
SUMMARY:AZ CCW Permit Class
DESCRIPTION:ccw-permit-class
URL:https://www.gunsite.com/event/az-ccw-permit-class-7/
LOCATION:Gunsite Academy\, Paulden\, Arizona\, 2900 W Gunsite Road\, Paulden\, AZ\, 86334\, United States
CATEGORIES:Specialty
ORGANIZER;CN="Student Coordinator -Rikki Newell":MAILTO:rikki@gunsite.com
GEO:34.8659432;-112.513961
X-APPLE-STRUCTURED-LOCATION;VALUE=URI;X-ADDRESS=Gunsite Academy Paulden Arizona 2900 W Gunsite Road Paulden AZ 86334 United States;X-APPLE-RADIUS=500;X-TITLE=2900 W Gunsite Road:geo:-112.513961,34.8659432
END:VEVENT
BEGIN:VEVENT
DTSTART;TZID=America/Phoenix:20250906T080000
DTEND;TZID=America/Phoenix:20250906T170000
DTSTAMP:20260420T015244
CREATED:20240610T152003Z
LAST-MODIFIED:20240913T172431Z
UID:10003051-1757145600-1757178000@www.gunsite.com
SUMMARY:Carbine Range Day
DESCRIPTION:carbine-range-day
URL:https://www.gunsite.com/event/carbine-range-day-19/
LOCATION:Gunsite Academy\, Paulden\, Arizona\, 2900 W Gunsite Road\, Paulden\, AZ\, 86334\, United States
CATEGORIES:Carbine
ORGANIZER;CN="Student Coordinator -Rikki Newell":MAILTO:rikki@gunsite.com
GEO:34.8659432;-112.513961
X-APPLE-STRUCTURED-LOCATION;VALUE=URI;X-ADDRESS=Gunsite Academy Paulden Arizona 2900 W Gunsite Road Paulden AZ 86334 United States;X-APPLE-RADIUS=500;X-TITLE=2900 W Gunsite Road:geo:-112.513961,34.8659432
END:VEVENT
BEGIN:VEVENT
DTSTART;TZID=America/Phoenix:20250906T080000
DTEND;TZID=America/Phoenix:20250908T000000
DTSTAMP:20260420T015244
CREATED:20240610T152318Z
LAST-MODIFIED:20240910T152937Z
UID:10003083-1757145600-1757289600@www.gunsite.com
SUMMARY:Instructor Development - Armed Women of America
DESCRIPTION:armed-women-of-america-instructor-development
URL:https://www.gunsite.com/event/instructor-development-armed-women-of-america/
LOCATION:Gunsite Academy\, Paulden\, Arizona\, 2900 W Gunsite Road\, Paulden\, AZ\, 86334\, United States
CATEGORIES:Specialty
ORGANIZER;CN="Student Coordinator -Rikki Newell":MAILTO:rikki@gunsite.com
GEO:34.8659432;-112.513961
X-APPLE-STRUCTURED-LOCATION;VALUE=URI;X-ADDRESS=Gunsite Academy Paulden Arizona 2900 W Gunsite Road Paulden AZ 86334 United States;X-APPLE-RADIUS=500;X-TITLE=2900 W Gunsite Road:geo:-112.513961,34.8659432
END:VEVENT
BEGIN:VEVENT
DTSTART;TZID=America/Phoenix:20250908T080000
DTEND;TZID=America/Phoenix:20250912T170000
DTSTAMP:20260420T015244
CREATED:20240609T214923Z
LAST-MODIFIED:20240913T173332Z
UID:10003003-1757318400-1757696400@www.gunsite.com
SUMMARY:270 General Rifle
DESCRIPTION:270-rifle-class
URL:https://www.gunsite.com/event/270-general-rifle-12/
LOCATION:Gunsite Academy\, Paulden\, Arizona\, 2900 W Gunsite Road\, Paulden\, AZ\, 86334\, United States
CATEGORIES:Rifle
ORGANIZER;CN="Student Coordinator -Rikki Newell":MAILTO:rikki@gunsite.com
GEO:34.8659432;-112.513961
X-APPLE-STRUCTURED-LOCATION;VALUE=URI;X-ADDRESS=Gunsite Academy Paulden Arizona 2900 W Gunsite Road Paulden AZ 86334 United States;X-APPLE-RADIUS=500;X-TITLE=2900 W Gunsite Road:geo:-112.513961,34.8659432
END:VEVENT
BEGIN:VEVENT
DTSTART;TZID=America/Phoenix:20250913T080000
DTEND;TZID=America/Phoenix:20250914T170000
DTSTAMP:20260420T015244
CREATED:20240610T152718Z
LAST-MODIFIED:20240916T174145Z
UID:10003114-1757750400-1757869200@www.gunsite.com
SUMMARY:Pistol Range Days (2)
DESCRIPTION:pistol-range-day-2
URL:https://www.gunsite.com/event/pistol-range-days-2-3/
LOCATION:Gunsite Academy\, Paulden\, Arizona\, 2900 W Gunsite Road\, Paulden\, AZ\, 86334\, United States
CATEGORIES:Pistol
ORGANIZER;CN="Student Coordinator -Rikki Newell":MAILTO:rikki@gunsite.com
GEO:34.8659432;-112.513961
X-APPLE-STRUCTURED-LOCATION;VALUE=URI;X-ADDRESS=Gunsite Academy Paulden Arizona 2900 W Gunsite Road Paulden AZ 86334 United States;X-APPLE-RADIUS=500;X-TITLE=2900 W Gunsite Road:geo:-112.513961,34.8659432
END:VEVENT
BEGIN:VEVENT
DTSTART;TZID=America/Phoenix:20250914T080000
DTEND;TZID=America/Phoenix:20250914T170000
DTSTAMP:20260420T015244
CREATED:20240913T173819Z
LAST-MODIFIED:20240917T160853Z
UID:10003216-1757836800-1757869200@www.gunsite.com
SUMMARY:Day Zero - Pistol
DESCRIPTION:
URL:https://www.gunsite.com/event/day-zero-pistol-2/
LOCATION:Gunsite Academy\, Paulden\, Arizona\, 2900 W Gunsite Road\, Paulden\, AZ\, 86334\, United States
CATEGORIES:Gunsite Academy,Range Days
ORGANIZER;CN="Student Coordinator -Rikki Newell":MAILTO:rikki@gunsite.com
GEO:34.8659432;-112.513961
X-APPLE-STRUCTURED-LOCATION;VALUE=URI;X-ADDRESS=Gunsite Academy Paulden Arizona 2900 W Gunsite Road Paulden AZ 86334 United States;X-APPLE-RADIUS=500;X-TITLE=2900 W Gunsite Road:geo:-112.513961,34.8659432
END:VEVENT
BEGIN:VEVENT
DTSTART;TZID=America/Phoenix:20250915T080000
DTEND;TZID=America/Phoenix:20250919T000000
DTSTAMP:20260420T015244
CREATED:20240609T214452Z
LAST-MODIFIED:20260206T191418Z
UID:10002982-1757923200-1758240000@www.gunsite.com
SUMMARY:223 Defensive Carbine
DESCRIPTION:223-gunsite-carbine-class
URL:https://www.gunsite.com/event/223-defensive-carbine-21/
LOCATION:Gunsite Academy\, Paulden\, Arizona\, 2900 W Gunsite Road\, Paulden\, AZ\, 86334\, United States
CATEGORIES:Carbine,Promo
ORGANIZER;CN="Student Coordinator -Rikki Newell":MAILTO:rikki@gunsite.com
GEO:34.8659432;-112.513961
X-APPLE-STRUCTURED-LOCATION;VALUE=URI;X-ADDRESS=Gunsite Academy Paulden Arizona 2900 W Gunsite Road Paulden AZ 86334 United States;X-APPLE-RADIUS=500;X-TITLE=2900 W Gunsite Road:geo:-112.513961,34.8659432
END:VEVENT
BEGIN:VEVENT
DTSTART;TZID=America/Phoenix:20250915T080000
DTEND;TZID=America/Phoenix:20250919T000000
DTSTAMP:20260420T015244
CREATED:20240609T215153Z
LAST-MODIFIED:20240910T152816Z
UID:10003022-1757923200-1758240000@www.gunsite.com
SUMMARY:250 Defensive Pistol with Optics
DESCRIPTION:250-defensive-pistol-class-pistol-mounted-optics
URL:https://www.gunsite.com/event/250-defensive-pistol-with-optics-4/
LOCATION:Gunsite Academy\, Paulden\, Arizona\, 2900 W Gunsite Road\, Paulden\, AZ\, 86334\, United States
CATEGORIES:Pistol
ORGANIZER;CN="Student Coordinator -Rikki Newell":MAILTO:rikki@gunsite.com
GEO:34.8659432;-112.513961
X-APPLE-STRUCTURED-LOCATION;VALUE=URI;X-ADDRESS=Gunsite Academy Paulden Arizona 2900 W Gunsite Road Paulden AZ 86334 United States;X-APPLE-RADIUS=500;X-TITLE=2900 W Gunsite Road:geo:-112.513961,34.8659432
END:VEVENT
BEGIN:VEVENT
DTSTART;TZID=America/Phoenix:20250917T080000
DTEND;TZID=America/Phoenix:20250919T170000
DTSTAMP:20260420T015244
CREATED:20240910T153519Z
LAST-MODIFIED:20250628T185334Z
UID:10003197-1758096000-1758301200@www.gunsite.com
SUMMARY:Night Vision Pistol Carbine I
DESCRIPTION:
URL:https://www.gunsite.com/event/night-vision-pistol-carbine-i-3/
LOCATION:Gunsite Academy\, Paulden\, Arizona\, 2900 W Gunsite Road\, Paulden\, AZ\, 86334\, United States
CATEGORIES:Gunsite Academy
ORGANIZER;CN="Student Coordinator -Rikki Newell":MAILTO:rikki@gunsite.com
GEO:34.8659432;-112.513961
X-APPLE-STRUCTURED-LOCATION;VALUE=URI;X-ADDRESS=Gunsite Academy Paulden Arizona 2900 W Gunsite Road Paulden AZ 86334 United States;X-APPLE-RADIUS=500;X-TITLE=2900 W Gunsite Road:geo:-112.513961,34.8659432
END:VEVENT
BEGIN:VEVENT
DTSTART;TZID=America/Phoenix:20250920T080000
DTEND;TZID=America/Phoenix:20250920T170000
DTSTAMP:20260420T015244
CREATED:20240610T152940Z
LAST-MODIFIED:20240913T181537Z
UID:10003135-1758355200-1758387600@www.gunsite.com
SUMMARY:Shotgun Range Day
DESCRIPTION:shotgun-range-day
URL:https://www.gunsite.com/event/shotgun-range-day-19/
LOCATION:Gunsite Academy\, Paulden\, Arizona\, 2900 W Gunsite Road\, Paulden\, AZ\, 86334\, United States
CATEGORIES:Shotgun
ORGANIZER;CN="Student Coordinator -Rikki Newell":MAILTO:rikki@gunsite.com
GEO:34.8659432;-112.513961
X-APPLE-STRUCTURED-LOCATION;VALUE=URI;X-ADDRESS=Gunsite Academy Paulden Arizona 2900 W Gunsite Road Paulden AZ 86334 United States;X-APPLE-RADIUS=500;X-TITLE=2900 W Gunsite Road:geo:-112.513961,34.8659432
END:VEVENT
BEGIN:VEVENT
DTSTART;TZID=America/Phoenix:20250922T080000
DTEND;TZID=America/Phoenix:20250926T170000
DTSTAMP:20260420T015244
CREATED:20240609T214954Z
LAST-MODIFIED:20240913T181620Z
UID:10003016-1758528000-1758906000@www.gunsite.com
SUMMARY:556 Advanced Carbine
DESCRIPTION:556-advanced-carbine
URL:https://www.gunsite.com/event/556-advanced-carbine-19/
LOCATION:Gunsite Academy\, Paulden\, Arizona\, 2900 W Gunsite Road\, Paulden\, AZ\, 86334\, United States
CATEGORIES:Carbine
ORGANIZER;CN="Student Coordinator -Rikki Newell":MAILTO:rikki@gunsite.com
GEO:34.8659432;-112.513961
X-APPLE-STRUCTURED-LOCATION;VALUE=URI;X-ADDRESS=Gunsite Academy Paulden Arizona 2900 W Gunsite Road Paulden AZ 86334 United States;X-APPLE-RADIUS=500;X-TITLE=2900 W Gunsite Road:geo:-112.513961,34.8659432
END:VEVENT
BEGIN:VEVENT
DTSTART;TZID=America/Phoenix:20250926T080000
DTEND;TZID=America/Phoenix:20250928T170000
DTSTAMP:20260420T015244
CREATED:20240610T153040Z
LAST-MODIFIED:20240913T181713Z
UID:10003143-1758873600-1759078800@www.gunsite.com
SUMMARY:Tactical Medicine 3-Day
DESCRIPTION:tactical-medicine-3-days
URL:https://www.gunsite.com/event/tactical-medicine-3-day-2/
LOCATION:Gunsite Academy\, Paulden\, Arizona\, 2900 W Gunsite Road\, Paulden\, AZ\, 86334\, United States
CATEGORIES:Specialty
ORGANIZER;CN="Student Coordinator -Rikki Newell":MAILTO:rikki@gunsite.com
GEO:34.8659432;-112.513961
X-APPLE-STRUCTURED-LOCATION;VALUE=URI;X-ADDRESS=Gunsite Academy Paulden Arizona 2900 W Gunsite Road Paulden AZ 86334 United States;X-APPLE-RADIUS=500;X-TITLE=2900 W Gunsite Road:geo:-112.513961,34.8659432
END:VEVENT
BEGIN:VEVENT
DTSTART;VALUE=DATE:20250927
DTEND;VALUE=DATE:20250929
DTSTAMP:20260420T015244
CREATED:20250219T175704Z
LAST-MODIFIED:20250815T231006Z
UID:10003246-1758931200-1759103999@www.gunsite.com
SUMMARY:Transition Red Dot
DESCRIPTION:
URL:https://www.gunsite.com/event/transition-red-dot/
LOCATION:Gunsite Academy\, Paulden\, Arizona\, 2900 W Gunsite Road\, Paulden\, AZ\, 86334\, United States
CATEGORIES:Gunsite Academy,Pistol
ORGANIZER;CN="Student Coordinator -Rikki Newell":MAILTO:rikki@gunsite.com
GEO:34.8659432;-112.513961
X-APPLE-STRUCTURED-LOCATION;VALUE=URI;X-ADDRESS=Gunsite Academy Paulden Arizona 2900 W Gunsite Road Paulden AZ 86334 United States;X-APPLE-RADIUS=500;X-TITLE=2900 W Gunsite Road:geo:-112.513961,34.8659432
END:VEVENT
BEGIN:VEVENT
DTSTART;TZID=America/Phoenix:20250927T073000
DTEND;TZID=America/Phoenix:20250927T170000
DTSTAMP:20260420T015244
CREATED:20240910T153518Z
LAST-MODIFIED:20250628T185334Z
UID:10003193-1758958200-1758992400@www.gunsite.com
SUMMARY:Glock Armorer Course
DESCRIPTION:
URL:https://www.gunsite.com/event/glock-armorer-course-2/
LOCATION:Gunsite Academy\, Paulden\, Arizona\, 2900 W Gunsite Road\, Paulden\, AZ\, 86334\, United States
CATEGORIES:Gunsite Academy
ORGANIZER;CN="Student Coordinator -Rikki Newell":MAILTO:rikki@gunsite.com
GEO:34.8659432;-112.513961
X-APPLE-STRUCTURED-LOCATION;VALUE=URI;X-ADDRESS=Gunsite Academy Paulden Arizona 2900 W Gunsite Road Paulden AZ 86334 United States;X-APPLE-RADIUS=500;X-TITLE=2900 W Gunsite Road:geo:-112.513961,34.8659432
END:VEVENT
BEGIN:VEVENT
DTSTART;TZID=America/Phoenix:20250928T080000
DTEND;TZID=America/Phoenix:20250928T170000
DTSTAMP:20260420T015244
CREATED:20240610T152117Z
LAST-MODIFIED:20240913T181756Z
UID:10003068-1759046400-1759078800@www.gunsite.com
SUMMARY:Day Zero
DESCRIPTION:day-zero
URL:https://www.gunsite.com/event/day-zero-35/
LOCATION:Gunsite Academy\, Paulden\, Arizona\, 2900 W Gunsite Road\, Paulden\, AZ\, 86334\, United States
CATEGORIES:Pistol
ORGANIZER;CN="Student Coordinator -Rikki Newell":MAILTO:rikki@gunsite.com
GEO:34.8659432;-112.513961
X-APPLE-STRUCTURED-LOCATION;VALUE=URI;X-ADDRESS=Gunsite Academy Paulden Arizona 2900 W Gunsite Road Paulden AZ 86334 United States;X-APPLE-RADIUS=500;X-TITLE=2900 W Gunsite Road:geo:-112.513961,34.8659432
END:VEVENT
BEGIN:VEVENT
DTSTART;TZID=America/Phoenix:20250929T080000
DTEND;TZID=America/Phoenix:20251003T170000
DTSTAMP:20260420T015244
CREATED:20240609T214706Z
LAST-MODIFIED:20240916T174341Z
UID:10002996-1759132800-1759510800@www.gunsite.com
SUMMARY:250 Defensive Pistol
DESCRIPTION:250-defensive-pistol-class
URL:https://www.gunsite.com/event/250-defensive-pistol-12/
LOCATION:Gunsite Academy\, Paulden\, Arizona\, 2900 W Gunsite Road\, Paulden\, AZ\, 86334\, United States
CATEGORIES:Gunsite Academy,Pistol
ORGANIZER;CN="Student Coordinator -Rikki Newell":MAILTO:rikki@gunsite.com
GEO:34.8659432;-112.513961
X-APPLE-STRUCTURED-LOCATION;VALUE=URI;X-ADDRESS=Gunsite Academy Paulden Arizona 2900 W Gunsite Road Paulden AZ 86334 United States;X-APPLE-RADIUS=500;X-TITLE=2900 W Gunsite Road:geo:-112.513961,34.8659432
END:VEVENT
BEGIN:VEVENT
DTSTART;TZID=America/Phoenix:20250929T080000
DTEND;TZID=America/Phoenix:20251003T170000
DTSTAMP:20260420T015244
CREATED:20240609T214930Z
LAST-MODIFIED:20250825T225657Z
UID:10003008-1759132800-1759510800@www.gunsite.com
SUMMARY:350 Intermediate Pistol
DESCRIPTION:350-intermediate-defensive-pistol-class
URL:https://www.gunsite.com/event/350-intermediate-pistol-33/
LOCATION:Gunsite Academy\, Paulden\, Arizona\, 2900 W Gunsite Road\, Paulden\, AZ\, 86334\, United States
CATEGORIES:Gunsite Academy,Pistol
ORGANIZER;CN="Student Coordinator -Rikki Newell":MAILTO:rikki@gunsite.com
GEO:34.8659432;-112.513961
X-APPLE-STRUCTURED-LOCATION;VALUE=URI;X-ADDRESS=Gunsite Academy Paulden Arizona 2900 W Gunsite Road Paulden AZ 86334 United States;X-APPLE-RADIUS=500;X-TITLE=2900 W Gunsite Road:geo:-112.513961,34.8659432
END:VEVENT
BEGIN:VEVENT
DTSTART;TZID=America/Phoenix:20251006T080000
DTEND;TZID=America/Phoenix:20251008T170000
DTSTAMP:20260420T015244
CREATED:20240609T215554Z
LAST-MODIFIED:20240913T182225Z
UID:10003036-1759737600-1759942800@www.gunsite.com
SUMMARY:Advanced Tactical Pistol Problems/Simulators
DESCRIPTION:advanced-tactical-pistol-problems-simulators-2
URL:https://www.gunsite.com/event/advanced-tactical-pistol-problems-simulators-4/
LOCATION:Gunsite Academy\, Paulden\, Arizona\, 2900 W Gunsite Road\, Paulden\, AZ\, 86334\, United States
CATEGORIES:Pistol
ORGANIZER;CN="Student Coordinator -Rikki Newell":MAILTO:rikki@gunsite.com
GEO:34.8659432;-112.513961
X-APPLE-STRUCTURED-LOCATION;VALUE=URI;X-ADDRESS=Gunsite Academy Paulden Arizona 2900 W Gunsite Road Paulden AZ 86334 United States;X-APPLE-RADIUS=500;X-TITLE=2900 W Gunsite Road:geo:-112.513961,34.8659432
END:VEVENT
BEGIN:VEVENT
DTSTART;TZID=America/Phoenix:20251006T080000
DTEND;TZID=America/Phoenix:20251010T170000
DTSTAMP:20260420T015244
CREATED:20240609T214953Z
LAST-MODIFIED:20240913T182110Z
UID:10003012-1759737600-1760115600@www.gunsite.com
SUMMARY:499 Advanced Pistol
DESCRIPTION:350-intermediate-defensive-pistol-class
URL:https://www.gunsite.com/event/499-advanced-pistol-17/
LOCATION:Gunsite Academy\, Paulden\, Arizona\, 2900 W Gunsite Road\, Paulden\, AZ\, 86334\, United States
CATEGORIES:Pistol
ORGANIZER;CN="Student Coordinator -Rikki Newell":MAILTO:rikki@gunsite.com
GEO:34.8659432;-112.513961
X-APPLE-STRUCTURED-LOCATION;VALUE=URI;X-ADDRESS=Gunsite Academy Paulden Arizona 2900 W Gunsite Road Paulden AZ 86334 United States;X-APPLE-RADIUS=500;X-TITLE=2900 W Gunsite Road:geo:-112.513961,34.8659432
END:VEVENT
BEGIN:VEVENT
DTSTART;TZID=America/Phoenix:20251011T080000
DTEND;TZID=America/Phoenix:20251012T170000
DTSTAMP:20260420T015244
CREATED:20240610T152005Z
LAST-MODIFIED:20240913T182312Z
UID:10003053-1760169600-1760288400@www.gunsite.com
SUMMARY:Carbine Range Days (2)
DESCRIPTION:carbine-range-day-2
URL:https://www.gunsite.com/event/carbine-range-days-2-3/
LOCATION:Gunsite Academy\, Paulden\, Arizona\, 2900 W Gunsite Road\, Paulden\, AZ\, 86334\, United States
CATEGORIES:Carbine
ORGANIZER;CN="Student Coordinator -Rikki Newell":MAILTO:rikki@gunsite.com
GEO:34.8659432;-112.513961
X-APPLE-STRUCTURED-LOCATION;VALUE=URI;X-ADDRESS=Gunsite Academy Paulden Arizona 2900 W Gunsite Road Paulden AZ 86334 United States;X-APPLE-RADIUS=500;X-TITLE=2900 W Gunsite Road:geo:-112.513961,34.8659432
END:VEVENT
BEGIN:VEVENT
DTSTART;TZID=America/Phoenix:20251012T080000
DTEND;TZID=America/Phoenix:20251018T170000
DTSTAMP:20260420T015244
CREATED:20240610T152618Z
LAST-MODIFIED:20250625T212657Z
UID:10003104-1760256000-1760806800@www.gunsite.com
SUMMARY:Long Range Precision Rifle
DESCRIPTION:precision-rifle-7-2
URL:https://www.gunsite.com/event/long-range-precision-rifle-4/
LOCATION:Gunsite Academy\, Paulden\, Arizona\, 2900 W Gunsite Road\, Paulden\, AZ\, 86334\, United States
CATEGORIES:Rifle,Sold Out Classes
ORGANIZER;CN="Student Coordinator -Rikki Newell":MAILTO:rikki@gunsite.com
GEO:34.8659432;-112.513961
X-APPLE-STRUCTURED-LOCATION;VALUE=URI;X-ADDRESS=Gunsite Academy Paulden Arizona 2900 W Gunsite Road Paulden AZ 86334 United States;X-APPLE-RADIUS=500;X-TITLE=2900 W Gunsite Road:geo:-112.513961,34.8659432
END:VEVENT
BEGIN:VEVENT
DTSTART;VALUE=DATE:20251013
DTEND;VALUE=DATE:20251016
DTSTAMP:20260420T015245
CREATED:20240609T215154Z
LAST-MODIFIED:20250912T150228Z
UID:10003026-1760313600-1760572799@www.gunsite.com
SUMMARY:260 Defensive Shotgun
DESCRIPTION:260-shotgun-class
URL:https://www.gunsite.com/event/260-defensive-shotgun-15/
LOCATION:Gunsite Academy\, Paulden\, Arizona\, 2900 W Gunsite Road\, Paulden\, AZ\, 86334\, United States
CATEGORIES:Shotgun
ORGANIZER;CN="Student Coordinator -Rikki Newell":MAILTO:rikki@gunsite.com
GEO:34.8659432;-112.513961
X-APPLE-STRUCTURED-LOCATION;VALUE=URI;X-ADDRESS=Gunsite Academy Paulden Arizona 2900 W Gunsite Road Paulden AZ 86334 United States;X-APPLE-RADIUS=500;X-TITLE=2900 W Gunsite Road:geo:-112.513961,34.8659432
END:VEVENT
BEGIN:VEVENT
DTSTART;TZID=America/Phoenix:20251013T080000
DTEND;TZID=America/Phoenix:20251017T000000
DTSTAMP:20260420T015245
CREATED:20240610T152846Z
LAST-MODIFIED:20240917T223936Z
UID:10003128-1760342400-1760659200@www.gunsite.com
SUMMARY:Seasoned Citizen - 250 Defensive Pistol
DESCRIPTION:seasoned-citizen-250-pistol
URL:https://www.gunsite.com/event/seasoned-citizen-250-defensive-pistol-7/
LOCATION:Gunsite Academy\, Paulden\, Arizona\, 2900 W Gunsite Road\, Paulden\, AZ\, 86334\, United States
CATEGORIES:Seasoned Citizen
ORGANIZER;CN="Student Coordinator -Rikki Newell":MAILTO:rikki@gunsite.com
GEO:34.8659432;-112.513961
X-APPLE-STRUCTURED-LOCATION;VALUE=URI;X-ADDRESS=Gunsite Academy Paulden Arizona 2900 W Gunsite Road Paulden AZ 86334 United States;X-APPLE-RADIUS=500;X-TITLE=2900 W Gunsite Road:geo:-112.513961,34.8659432
END:VEVENT
BEGIN:VEVENT
DTSTART;TZID=America/Phoenix:20251016T080000
DTEND;TZID=America/Phoenix:20251017T170000
DTSTAMP:20260420T015245
CREATED:20240610T152818Z
LAST-MODIFIED:20240916T174955Z
UID:10003121-1760601600-1760720400@www.gunsite.com
SUMMARY:Shotgun Advanced Tactical Problems
DESCRIPTION:shotgun-advanced-tactical-problems-class
URL:https://www.gunsite.com/event/shotgun-advanced-tactical-problems-27/
LOCATION:Gunsite Academy\, Paulden\, Arizona\, 2900 W Gunsite Road\, Paulden\, AZ\, 86334\, United States
CATEGORIES:Shotgun
ORGANIZER;CN="Student Coordinator -Rikki Newell":MAILTO:rikki@gunsite.com
GEO:34.8659432;-112.513961
X-APPLE-STRUCTURED-LOCATION;VALUE=URI;X-ADDRESS=Gunsite Academy Paulden Arizona 2900 W Gunsite Road Paulden AZ 86334 United States;X-APPLE-RADIUS=500;X-TITLE=2900 W Gunsite Road:geo:-112.513961,34.8659432
END:VEVENT
BEGIN:VEVENT
DTSTART;TZID=America/Phoenix:20251018T080000
DTEND;TZID=America/Phoenix:20251018T170000
DTSTAMP:20260420T015245
CREATED:20240910T153518Z
LAST-MODIFIED:20240917T160729Z
UID:10003201-1760774400-1760806800@www.gunsite.com
SUMMARY:Steel Pistol Range Day
DESCRIPTION:
URL:https://www.gunsite.com/event/steel-pistol-range-day-7/
LOCATION:Gunsite Academy\, Paulden\, Arizona\, 2900 W Gunsite Road\, Paulden\, AZ\, 86334\, United States
CATEGORIES:Gunsite Academy,Range Days
ORGANIZER;CN="Student Coordinator -Rikki Newell":MAILTO:rikki@gunsite.com
GEO:34.8659432;-112.513961
X-APPLE-STRUCTURED-LOCATION;VALUE=URI;X-ADDRESS=Gunsite Academy Paulden Arizona 2900 W Gunsite Road Paulden AZ 86334 United States;X-APPLE-RADIUS=500;X-TITLE=2900 W Gunsite Road:geo:-112.513961,34.8659432
END:VEVENT
BEGIN:VEVENT
DTSTART;TZID=America/Phoenix:20251019T080000
DTEND;TZID=America/Phoenix:20251019T170000
DTSTAMP:20260420T015245
CREATED:20240610T152218Z
LAST-MODIFIED:20240913T191656Z
UID:10003076-1760860800-1760893200@www.gunsite.com
SUMMARY:Day Zero - Carbine
DESCRIPTION:day-zero-carbine
URL:https://www.gunsite.com/event/day-zero-carbine-13/
LOCATION:Gunsite Academy\, Paulden\, Arizona\, 2900 W Gunsite Road\, Paulden\, AZ\, 86334\, United States
CATEGORIES:Carbine
ORGANIZER;CN="Student Coordinator -Rikki Newell":MAILTO:rikki@gunsite.com
GEO:34.8659432;-112.513961
X-APPLE-STRUCTURED-LOCATION;VALUE=URI;X-ADDRESS=Gunsite Academy Paulden Arizona 2900 W Gunsite Road Paulden AZ 86334 United States;X-APPLE-RADIUS=500;X-TITLE=2900 W Gunsite Road:geo:-112.513961,34.8659432
END:VEVENT
BEGIN:VEVENT
DTSTART;VALUE=DATE:20251020
DTEND;VALUE=DATE:20251025
DTSTAMP:20260420T015245
CREATED:20241218T175820Z
LAST-MODIFIED:20250917T193534Z
UID:10003241-1760918400-1761350399@www.gunsite.com
SUMMARY:Tactical Concealed Carry Combat Casualty Care (TC5)
DESCRIPTION:
URL:https://www.gunsite.com/event/tactical-concealed-combat-casualty-care/
LOCATION:Gunsite Academy\, Paulden\, Arizona\, 2900 W Gunsite Road\, Paulden\, AZ\, 86334\, United States
CATEGORIES:Pistol,Tactical Classes
ORGANIZER;CN="Student Coordinator -Rikki Newell":MAILTO:rikki@gunsite.com
GEO:34.8659432;-112.513961
X-APPLE-STRUCTURED-LOCATION;VALUE=URI;X-ADDRESS=Gunsite Academy Paulden Arizona 2900 W Gunsite Road Paulden AZ 86334 United States;X-APPLE-RADIUS=500;X-TITLE=2900 W Gunsite Road:geo:-112.513961,34.8659432
END:VEVENT
END:VCALENDAR